BEGIN:VCALENDAR
VERSION:2.0
PRODID:-//Tukios.com/
BEGIN:VEVENT
UID:8bf35745-340f-42c3-8744-3be4520e1163@www.hollandfuneralservices.com
DTSTAMP:20260424T003812Z
DTSTART:20260428T170000Z
DTEND:20260428T174500Z
SUMMARY:Visitation
DESCRIPTION:
URL:https://www.hollandfuneralservices.com/obituaries/sandra-griffin
LOCATION: 2524 Stack Road  Monroe NC 28112
GEO:34.8830464;-80.4996029
END:VEVENT
END:VCALENDAR