BEGIN:VCALENDAR
VERSION:2.0
PRODID:-//Tukios.com/
BEGIN:VEVENT
UID:29bd8394-641e-4d0d-a8bf-bff7b4d464b2@www.hollandfuneralservices.com
DTSTAMP:20260424T003735Z
DTSTART:20260428T180000Z
DTEND:20260428T190000Z
SUMMARY:Funeral Service
DESCRIPTION:
URL:https://www.hollandfuneralservices.com/obituaries/sandra-griffin
LOCATION: 2524 Stack Road  Monroe NC 28112
GEO:34.8830464;-80.4996029
END:VEVENT
END:VCALENDAR