BEGIN:VCALENDAR
VERSION:2.0
PRODID:-//Tukios.com/
BEGIN:VEVENT
UID:901e5dca-8ba7-4156-b668-17326a8a48f5@www.hollandfuneralservices.com
DTSTAMP:20260424T235333Z
DTSTART:20260429T173000Z
DTEND:20260429T183000Z
SUMMARY:Burial
DESCRIPTION:
URL:https://www.hollandfuneralservices.com/obituaries/orlando-santiago
LOCATION:  Cemetery Drive  Monroe NC 28112
GEO:34.9764996;-80.5516912
END:VEVENT
END:VCALENDAR