BEGIN:VCALENDAR
VERSION:2.0
PRODID:-//Tukios.com/
BEGIN:VEVENT
UID:3002133a-c04c-4310-91db-07d6e3bd7e34@www.hollandfuneralservices.com
DTSTAMP:20260424T235333Z
DTSTART:20260429T140000Z
DTEND:20260429T170000Z
SUMMARY:Funeral Service
DESCRIPTION:
URL:https://www.hollandfuneralservices.com/obituaries/orlando-santiago
LOCATION: 806 Circle Dr  Monroe NC 28112
GEO:34.9748354;-80.5327971
END:VEVENT
END:VCALENDAR