BEGIN:VCALENDAR
VERSION:2.0
PRODID:-//Tukios.com/
BEGIN:VEVENT
UID:0847ef92-98de-438c-8add-512201f72445@www.hollandfuneralservices.com
DTSTAMP:20260423T215106Z
DTSTART:20260503T200000Z
DTEND:20260503T220000Z
SUMMARY:Memorial Service
DESCRIPTION:
URL:https://www.hollandfuneralservices.com/obituaries/david-williams
LOCATION:Wingate Baptist Church 109 East Elm Street  Wingate NC 28174
GEO:34.9858269;-80.4476458
END:VEVENT
END:VCALENDAR